BEGIN:VCALENDAR
VERSION:2.0
PRODID:-//The Grapevine - ECPv6.11.0.1//NONSGML v1.0//EN
CALSCALE:GREGORIAN
METHOD:PUBLISH
X-ORIGINAL-URL:https://grapevinenh.org
X-WR-CALDESC:Events for The Grapevine
REFRESH-INTERVAL;VALUE=DURATION:PT1H
X-Robots-Tag:noindex
X-PUBLISHED-TTL:PT1H
BEGIN:VTIMEZONE
TZID:UTC
BEGIN:STANDARD
TZOFFSETFROM:+0000
TZOFFSETTO:+0000
TZNAME:UTC
DTSTART:20240101T000000
END:STANDARD
END:VTIMEZONE
BEGIN:VEVENT
DTSTART;TZID=UTC:20240511T093000
DTEND;TZID=UTC:20240511T110000
DTSTAMP:20260421T125723
CREATED:20240225T173622Z
LAST-MODIFIED:20240225T173622Z
UID:2137-1715419800-1715425200@grapevinenh.org
SUMMARY:Annual Spring Walk for Families
DESCRIPTION:Join us for a one mile family friendly walk around downtown Antrim in support of the Grapevine and in celebration of our amazing community! Raise pledges in support of our programs and services.  Strollers\, skates\, bikes and dogs on a leash are welcome! You can pick up a pledge form at the Grapevine or download from our website: grapevinenh.org. Registration begins at 9:30 am\, walk begins at 10.
URL:https://grapevinenh.org/event/annual-spring-walk-for-families-2/
LOCATION:The Grapevine\, 4 Aiken St\, Antrim\, NH\, 03440\, United States
ATTACH;FMTTYPE=image/jpeg:https://grapevinenh.org/wp-content/uploads/2023/05/springwalk2022.jpg
END:VEVENT
BEGIN:VEVENT
DTSTART;TZID=UTC:20240511T110000
DTEND;TZID=UTC:20240511T130000
DTSTAMP:20260421T125723
CREATED:20240225T173824Z
LAST-MODIFIED:20240320T003752Z
UID:2138-1715425200-1715432400@grapevinenh.org
SUMMARY:Annual Black Fly Community Art Event
DESCRIPTION:Why not combine two great events into one day?  Join us at the Grapevine following our Spring Walk for a fun and family friendly art event at the Grapevine! Create and view many different forms of art!!
URL:https://grapevinenh.org/event/annual-black-fly-community-art-event-2/
LOCATION:The Grapevine\, 4 Aiken St\, Antrim\, NH\, 03440\, United States
ATTACH;FMTTYPE=image/jpeg:https://grapevinenh.org/wp-content/uploads/2023/02/280983763_10160827223130864_27339710598034407_n.jpg
END:VEVENT
END:VCALENDAR