BEGIN:VCALENDAR
VERSION:2.0
PRODID:-//The Grapevine - ECPv6.11.0.1//NONSGML v1.0//EN
CALSCALE:GREGORIAN
METHOD:PUBLISH
X-ORIGINAL-URL:https://grapevinenh.org
X-WR-CALDESC:Events for The Grapevine
REFRESH-INTERVAL;VALUE=DURATION:PT1H
X-Robots-Tag:noindex
X-PUBLISHED-TTL:PT1H
BEGIN:VTIMEZONE
TZID:UTC
BEGIN:STANDARD
TZOFFSETFROM:+0000
TZOFFSETTO:+0000
TZNAME:UTC
DTSTART:20250101T000000
END:STANDARD
END:VTIMEZONE
BEGIN:VEVENT
DTSTART;TZID=UTC:20250609T181500
DTEND;TZID=UTC:20250609T203000
DTSTAMP:20260424T052930
CREATED:20250326T152825Z
LAST-MODIFIED:20250519T114123Z
UID:2291-1749492900-1749501000@grapevinenh.org
SUMMARY:Blindfolded Boat Race 2025
DESCRIPTION:2025 Race Registration opens on April 1st! To register and find all the details\, click HERE!\nHow the race works:\nOur third annual kick-off to summer is coming up at Norway Pond in Hancock! \nTeams: Each team must have two people (but not more than two!) – The person in the front of the canoe gets the paddle and is blindfolded. At the back of the canoe the navigator yells directions to the paddler (the navigator doesn’t get a paddle). Remember: Costumes and canoe decorations are encouraged! \nCanoes: Teams are responsible for bringing their own canoe. \nDivisions: Our race has two divisions: \n\nCommunity Division: This division is for individuals\, friends\, and families. Each team must raise $150 (or more!) to compete in the race.\n\n\nBusiness/Organization Division: This division is for teams who are racing to represent a group\, organization\, or business. Each team must raise $300 (or more!) to compete in the race.\n\nAll donations support Avenue A’s NH Gives Campaign –our biggest fundraiser of the year! This fundraiser makes our programs for local youth possible! \nRace Day Schedule: \n\nTeams will be sent a map of the race course prior to Race Day.\nThe course will be about a 10 minute paddle (or less if you’re fast!).\nBoater check-in happens from 5-6pm on Race Day.\nTeams must submit their pledge sheet at check-in to compete.\nWhen you check in for the race\, you will be assigned a bib number and a heat.\nThe winner of each heat will compete in a final “paddle-off” race at the end of the evening!\n\nPrizes will be awarded in each Division for the following categories: \n\n\nPrizes will be awarded in each Division for the following categories: \n\nFastest Time\nTeam that gets the most people to donate in support of them\nHighest dollar amount raised\nBest Costume/Boat Décor!\n\nThere will also be prizes for the “Paddle-Off Winner” and the fastest “Youth Paddler” (the fastest paddler age 16 or younger)!
URL:https://grapevinenh.org/event/blindfolded-boat-race-2025/
LOCATION:Norway Pond\, Main St\, Hancock\, NH\, 03449\, United States
ATTACH;FMTTYPE=image/jpeg:https://grapevinenh.org/wp-content/uploads/2025/03/484715712_1048532237308933_4864777890878157848_n.jpg
END:VEVENT
END:VCALENDAR