BEGIN:VCALENDAR
VERSION:2.0
PRODID:-//The Grapevine - ECPv6.11.0.1//NONSGML v1.0//EN
CALSCALE:GREGORIAN
METHOD:PUBLISH
X-ORIGINAL-URL:https://grapevinenh.org
X-WR-CALDESC:Events for The Grapevine
REFRESH-INTERVAL;VALUE=DURATION:PT1H
X-Robots-Tag:noindex
X-PUBLISHED-TTL:PT1H
BEGIN:VTIMEZONE
TZID:UTC
BEGIN:STANDARD
TZOFFSETFROM:+0000
TZOFFSETTO:+0000
TZNAME:UTC
DTSTART:20250101T000000
END:STANDARD
END:VTIMEZONE
BEGIN:VEVENT
DTSTART;TZID=UTC:20250717T173000
DTEND;TZID=UTC:20250717T183000
DTSTAMP:20260424T022123
CREATED:20250630T154414Z
LAST-MODIFIED:20250701T134403Z
UID:2347-1752773400-1752777000@grapevinenh.org
SUMMARY:July-Community Supper!
DESCRIPTION:This Community Supper is open to everyone! Please join your neighbors\, friends\, and families for a delicious home-cooked meal! Hosted by the Antrim Presbyterian Church. \nThe menu: Ham\, pineapple\, beans\, coleslaw\, cornbread\, and various desserts. Will have gluten-free cornbread\, vegetarian beans\, and cornbread.
URL:https://grapevinenh.org/event/july-community-supper/
LOCATION:First Presbyterian Church\, 73 Main St\, Antrim\, NH\, 03440\, United States
ATTACH;FMTTYPE=image/jpeg:https://grapevinenh.org/wp-content/uploads/2025/02/477894054_1028121829361345_8994796560950702045_n.jpg
END:VEVENT
END:VCALENDAR