BEGIN:VCALENDAR
VERSION:2.0
PRODID:-//The Grapevine - ECPv6.11.0.1//NONSGML v1.0//EN
CALSCALE:GREGORIAN
METHOD:PUBLISH
X-WR-CALNAME:The Grapevine
X-ORIGINAL-URL:https://grapevinenh.org
X-WR-CALDESC:Events for The Grapevine
REFRESH-INTERVAL;VALUE=DURATION:PT1H
X-Robots-Tag:noindex
X-PUBLISHED-TTL:PT1H
BEGIN:VTIMEZONE
TZID:UTC
BEGIN:STANDARD
TZOFFSETFROM:+0000
TZOFFSETTO:+0000
TZNAME:UTC
DTSTART:20250101T000000
END:STANDARD
END:VTIMEZONE
BEGIN:VEVENT
DTSTART;TZID=UTC:20251101T090000
DTEND;TZID=UTC:20251115T200000
DTSTAMP:20260423T201900
CREATED:20250917T131332Z
LAST-MODIFIED:20250917T131332Z
UID:2375-1761987600-1763236800@grapevinenh.org
SUMMARY:2025 Annual Online Auction
DESCRIPTION:Our 2025 Annual Online Auction starts on Saturday\, November 1st\, at 9 a.m. and ends on Friday\, November 15th\, at 8 p.m!\nWe have many items to bid on from baked goods\, gift certificates\, home decor\, handmade items\, and much more.\nFollow this link —->  https://www.32auctions.com/GRAPEVINENH\nMake sure you are registered and ready to start bidding! All funds raised from the Auction will go to all the programs we offer.
URL:https://grapevinenh.org/event/2025-annual-online-auction/
LOCATION:Online Event
ATTACH;FMTTYPE=application/pdf:https://grapevinenh.org/wp-content/uploads/2025/09/Auction-2025.pdf
END:VEVENT
END:VCALENDAR