BEGIN:VCALENDAR
VERSION:2.0
PRODID:-//The Grapevine - ECPv6.11.0.1//NONSGML v1.0//EN
CALSCALE:GREGORIAN
METHOD:PUBLISH
X-ORIGINAL-URL:https://grapevinenh.org
X-WR-CALDESC:Events for The Grapevine
REFRESH-INTERVAL;VALUE=DURATION:PT1H
X-Robots-Tag:noindex
X-PUBLISHED-TTL:PT1H
BEGIN:VTIMEZONE
TZID:UTC
BEGIN:STANDARD
TZOFFSETFROM:+0000
TZOFFSETTO:+0000
TZNAME:UTC
DTSTART:20250101T000000
END:STANDARD
END:VTIMEZONE
BEGIN:VEVENT
DTSTART;TZID=UTC:20251120T173000
DTEND;TZID=UTC:20251120T183000
DTSTAMP:20260423T184504
CREATED:20251119T195052Z
LAST-MODIFIED:20251119T195052Z
UID:2387-1763659800-1763663400@grapevinenh.org
SUMMARY:November Community Supper!
DESCRIPTION:This Community Supper is open to everyone! Please join your neighbors\, friends\, and families for a delicious home-cooked meal! Sponsored by Antrim Democrats!\n\nThe menu: Baked pasta dishes\, garlic bread\, salad\, and desserts.
URL:https://grapevinenh.org/event/november-community-supper/
LOCATION:First Presbyterian Church\, 73 Main St\, Antrim\, NH\, 03440\, United States
ATTACH;FMTTYPE=image/jpeg:https://grapevinenh.org/wp-content/uploads/2025/06/IMG_1692.jpg
END:VEVENT
END:VCALENDAR