BEGIN:VCALENDAR
VERSION:2.0
PRODID:-//The Grapevine - ECPv6.11.0.1//NONSGML v1.0//EN
CALSCALE:GREGORIAN
METHOD:PUBLISH
X-ORIGINAL-URL:https://grapevinenh.org
X-WR-CALDESC:Events for The Grapevine
REFRESH-INTERVAL;VALUE=DURATION:PT1H
X-Robots-Tag:noindex
X-PUBLISHED-TTL:PT1H
BEGIN:VTIMEZONE
TZID:UTC
BEGIN:STANDARD
TZOFFSETFROM:+0000
TZOFFSETTO:+0000
TZNAME:UTC
DTSTART:20250101T000000
END:STANDARD
END:VTIMEZONE
BEGIN:VEVENT
DTSTART;TZID=UTC:20251218T173000
DTEND;TZID=UTC:20251218T183000
DTSTAMP:20260423T184454
CREATED:20251210T175126Z
LAST-MODIFIED:20251210T175126Z
UID:2400-1766079000-1766082600@grapevinenh.org
SUMMARY:December Community Supper!
DESCRIPTION:This Community Supper is open to everyone! Please join your neighbors\, friends\, and families for a delicious home-cooked meal! Sponsored by Antrim Grange!\n\nThe menu: Baked Potato Bar and Apple crisp for dessert.
URL:https://grapevinenh.org/event/december-community-supper-3/
LOCATION:First Presbyterian Church\, 73 Main St\, Antrim\, NH\, 03440\, United States
ATTACH;FMTTYPE=image/jpeg:https://grapevinenh.org/wp-content/uploads/2025/06/IMG_1692.jpg
END:VEVENT
END:VCALENDAR