BEGIN:VCALENDAR
VERSION:2.0
PRODID:-//The Grapevine - ECPv6.11.0.1//NONSGML v1.0//EN
CALSCALE:GREGORIAN
METHOD:PUBLISH
X-WR-CALNAME:The Grapevine
X-ORIGINAL-URL:https://grapevinenh.org
X-WR-CALDESC:Events for The Grapevine
REFRESH-INTERVAL;VALUE=DURATION:PT1H
X-Robots-Tag:noindex
X-PUBLISHED-TTL:PT1H
BEGIN:VTIMEZONE
TZID:UTC
BEGIN:STANDARD
TZOFFSETFROM:+0000
TZOFFSETTO:+0000
TZNAME:UTC
DTSTART:20260101T000000
END:STANDARD
END:VTIMEZONE
BEGIN:VEVENT
DTSTART;TZID=UTC:20260127T100000
DTEND;TZID=UTC:20260127T110000
DTSTAMP:20260423T124120
CREATED:20260107T172304Z
LAST-MODIFIED:20260107T172722Z
UID:2417-1769508000-1769511600@grapevinenh.org
SUMMARY:Coffee & Conversation for Older Adults
DESCRIPTION:Senior Coffee and Conversation January 27 at 10 am at The Grapevine in our Ave A Teen Center space.\n\nJump into the New Year with a discussion about online scams. This topic has come up several times\, and everyone has information about the scams they’ve seen and ways to keep ourselves safe online. We will have a short presentation about current trends and a discussion about how to stay safe.\n\nWe will also start planning our legislative connections\, either through a field trip to Concord or by inviting our representatives out for coffee.  2026 is going to be a very active time in state government and we will make sure our voices are heard!
URL:https://grapevinenh.org/event/senior-coffee-and-conversation/
LOCATION:The Grapevine\, 4 Aiken St\, Antrim\, NH\, 03440\, United States
ATTACH;FMTTYPE=application/pdf:https://grapevinenh.org/wp-content/uploads/2026/01/Senior-Hour-2025-1.pdf
END:VEVENT
END:VCALENDAR