BEGIN:VCALENDAR
VERSION:2.0
PRODID:-//The Grapevine - ECPv6.11.0.1//NONSGML v1.0//EN
CALSCALE:GREGORIAN
METHOD:PUBLISH
X-ORIGINAL-URL:https://grapevinenh.org
X-WR-CALDESC:Events for The Grapevine
REFRESH-INTERVAL;VALUE=DURATION:PT1H
X-Robots-Tag:noindex
X-PUBLISHED-TTL:PT1H
BEGIN:VTIMEZONE
TZID:UTC
BEGIN:STANDARD
TZOFFSETFROM:+0000
TZOFFSETTO:+0000
TZNAME:UTC
DTSTART:20260101T000000
END:STANDARD
END:VTIMEZONE
BEGIN:VEVENT
DTSTART;TZID=UTC:20260413T173000
DTEND;TZID=UTC:20260413T193000
DTSTAMP:20260422T114251
CREATED:20260210T164720Z
LAST-MODIFIED:20260210T164720Z
UID:2447-1776101400-1776108600@grapevinenh.org
SUMMARY:Parent Café for elementary age parents & caregivers
DESCRIPTION:A welcoming space for parents and caregivers to come together\, share experiences\, and brainstorm ideas around a focused topic. This three-session workshop is designed for parents of school-aged children and will explore parenting challenges\, children’s behaviors\, resilience\, fear\, and the realities of everyday life. Join us for three Monday sessions: February 9\,\nMarch 9\, and April 13\, from 5:30 to 7:30pm. Dinner and childcare are included.
URL:https://grapevinenh.org/event/parent-cafe-for-elementary-age-parents-caregivers-3/
LOCATION:Antrim Elementary School\, 10 School St\, Antrim\, NH\, 03440
ATTACH;FMTTYPE=image/jpeg:https://grapevinenh.org/wp-content/uploads/2026/02/2026-Parent-Cafe--scaled-e1770741790704.jpg
END:VEVENT
END:VCALENDAR