BEGIN:VCALENDAR
VERSION:2.0
PRODID:-//The Grapevine - ECPv6.11.0.1//NONSGML v1.0//EN
CALSCALE:GREGORIAN
METHOD:PUBLISH
X-WR-CALNAME:The Grapevine
X-ORIGINAL-URL:https://grapevinenh.org
X-WR-CALDESC:Events for The Grapevine
REFRESH-INTERVAL;VALUE=DURATION:PT1H
X-Robots-Tag:noindex
X-PUBLISHED-TTL:PT1H
BEGIN:VTIMEZONE
TZID:UTC
BEGIN:STANDARD
TZOFFSETFROM:+0000
TZOFFSETTO:+0000
TZNAME:UTC
DTSTART:20260101T000000
END:STANDARD
END:VTIMEZONE
BEGIN:VEVENT
DTSTART;TZID=UTC:20260421T190000
DTEND;TZID=UTC:20260421T200000
DTSTAMP:20260421T095945
CREATED:20260312T152342Z
LAST-MODIFIED:20260312T152342Z
UID:2463-1776798000-1776801600@grapevinenh.org
SUMMARY:Owl Prowl with Phil
DESCRIPTION:Join the Harris Center’s Bird Conservation Director\, Phil Brown\, and Community Programs Director\, Susie Spikol\, for a guided evening walk at McCabe Forest in Antrim. As dusk settles\, we’ll explore field and forest trails in search of the sights and sounds of nocturnal and crepuscular wildlife. \nAlong the way\, we may hear the haunting calls of owls\, the distinctive displays of American woodcocks\, and the spring chorus of spring peepers and wood frogs. This relaxed walk is a great opportunity to experience the forest at a time of day when many animals are just becoming active. \nAll ages are welcome. Please register in advance with The Grapevine.
URL:https://grapevinenh.org/event/owl-prowl-with-phil/
LOCATION:McCabe Forrest\, Antrim
ATTACH;FMTTYPE=image/jpeg:https://grapevinenh.org/wp-content/uploads/2026/03/pexels-pixabay-66904.jpg
END:VEVENT
END:VCALENDAR