BEGIN:VCALENDAR
VERSION:2.0
PRODID:-//The Grapevine - ECPv6.11.0.1//NONSGML v1.0//EN
CALSCALE:GREGORIAN
METHOD:PUBLISH
X-ORIGINAL-URL:https://grapevinenh.org
X-WR-CALDESC:Events for The Grapevine
REFRESH-INTERVAL;VALUE=DURATION:PT1H
X-Robots-Tag:noindex
X-PUBLISHED-TTL:PT1H
BEGIN:VTIMEZONE
TZID:UTC
BEGIN:STANDARD
TZOFFSETFROM:+0000
TZOFFSETTO:+0000
TZNAME:UTC
DTSTART:20220101T000000
END:STANDARD
END:VTIMEZONE
BEGIN:VEVENT
DTSTART;TZID=UTC:20220801T090000
DTEND;TZID=UTC:20220805T123000
DTSTAMP:20260423T094734
CREATED:20220620T182619Z
LAST-MODIFIED:20220620T182619Z
UID:1455-1659344400-1659702600@grapevinenh.org
SUMMARY:Backyard Science Camp
DESCRIPTION:We still have a few open spaces available for your 7-9 year old child in our Backyard Science camp!\n\n\n“Backyard Science” with Carol Lunan and Rachel Hill\, offers nature exploration through the lens of science. Daily challenges and science experiments will pique the children’s natural curiosity. Activities include camp songs\, games\, scavenger hunts\, and science through art\, play with mud\, water and slimy stuff.\n\n\nThis program will be offered from August 1st- 5th from 9:00 am-12:30pm! Contact us at The Grapevine for more information!
URL:https://grapevinenh.org/event/backyard-science-camp/
LOCATION:NH
ATTACH;FMTTYPE=image/jpeg:https://grapevinenh.org/wp-content/uploads/2022/06/287124723_10160879886530864_5757765877553150159_n.jpg
END:VEVENT
END:VCALENDAR