BEGIN:VCALENDAR
VERSION:2.0
PRODID:-//The Grapevine - ECPv6.11.0.1//NONSGML v1.0//EN
CALSCALE:GREGORIAN
METHOD:PUBLISH
X-ORIGINAL-URL:https://grapevinenh.org
X-WR-CALDESC:Events for The Grapevine
REFRESH-INTERVAL;VALUE=DURATION:PT1H
X-Robots-Tag:noindex
X-PUBLISHED-TTL:PT1H
BEGIN:VTIMEZONE
TZID:UTC
BEGIN:STANDARD
TZOFFSETFROM:+0000
TZOFFSETTO:+0000
TZNAME:UTC
DTSTART:20250101T000000
END:STANDARD
END:VTIMEZONE
BEGIN:VEVENT
DTSTART;TZID=UTC:20250821T173000
DTEND;TZID=UTC:20250821T183000
DTSTAMP:20260423T232428
CREATED:20250630T164144Z
LAST-MODIFIED:20250811T152121Z
UID:2348-1755797400-1755801000@grapevinenh.org
SUMMARY:August- Community Supper!
DESCRIPTION:This Community Supper is open to everyone! Please join your neighbors\, friends\, and families for a delicious home-cooked meal! Hosted by At The Cross Church – they are hosting it at their church in Antrim. \nThe menu: Pizza is the main course! Volunteers of ATC will also provide sides and desserts.
URL:https://grapevinenh.org/event/august-community-supper/
LOCATION:At the Cross\, 223 Clinton Rd\, Antrim\, NH\, 03440
ATTACH;FMTTYPE=image/png:https://grapevinenh.org/wp-content/uploads/2025/06/6642513_large_01c0630b8e434b3d8a19fbc27cdd2e09.png
END:VEVENT
BEGIN:VEVENT
DTSTART;TZID=UTC:20250823T150000
DTEND;TZID=UTC:20250823T180000
DTSTAMP:20260423T232428
CREATED:20250528T160701Z
LAST-MODIFIED:20250528T160701Z
UID:2339-1755961200-1755972000@grapevinenh.org
SUMMARY:Avenue A Grand Opening!
DESCRIPTION:Come join us for the exciting community introduction of our new Avenue A Teen Center\, located at 4 Aiken Street in Antrim! We’ll have light refreshments and teen tours of the new space! \nOur new Avenue A Teen & Community Center is complete! We couldn’t have done this without our community\, including many volunteers\, donors\, and of course\, our TEENS. From the start\, they shared what they wanted their space to look and feel like by describing an ideal layout\, choosing paint colors\, signs\, furniture\, lighting\, outdoor space\, and of course\, lots of room for snacks! We are excited to announce that our Grand Opening will be held on Saturday\, August 23\, from 3 to 6 pm. Please come join us for a ribbon cutting and teen-led tour to honor and celebrate our new space in the community!
URL:https://grapevinenh.org/event/avenue-a-grand-opening/
LOCATION:The Grapevine\, 4 Aiken St\, Antrim\, NH\, 03440\, United States
ATTACH;FMTTYPE=image/jpeg:https://grapevinenh.org/wp-content/uploads/2025/05/IMG_1147-scaled.jpg
END:VEVENT
END:VCALENDAR