BEGIN:VCALENDAR
VERSION:2.0
PRODID:-//The Grapevine - ECPv6.11.0.1//NONSGML v1.0//EN
CALSCALE:GREGORIAN
METHOD:PUBLISH
X-WR-CALNAME:The Grapevine
X-ORIGINAL-URL:https://grapevinenh.org
X-WR-CALDESC:Events for The Grapevine
REFRESH-INTERVAL;VALUE=DURATION:PT1H
X-Robots-Tag:noindex
X-PUBLISHED-TTL:PT1H
BEGIN:VTIMEZONE
TZID:UTC
BEGIN:STANDARD
TZOFFSETFROM:+0000
TZOFFSETTO:+0000
TZNAME:UTC
DTSTART:20250101T000000
END:STANDARD
END:VTIMEZONE
BEGIN:VEVENT
DTSTART;TZID=UTC:20251016T173000
DTEND;TZID=UTC:20251016T183000
DTSTAMP:20260423T202035
CREATED:20250630T164646Z
LAST-MODIFIED:20251015T161304Z
UID:2352-1760635800-1760639400@grapevinenh.org
SUMMARY:October Community Supper is CANCELLED
DESCRIPTION:In consideration of services and remembrances being held on Thursday evening\, 10/16\, for the teens lost in a tragic car accident last week\, the Antrim Community supper has been canceled.  The next community supper in Antrim will be offered on Thursday\, November 20. Thank you for your understanding.  
URL:https://grapevinenh.org/event/october-community-supper-3/
LOCATION:First Presbyterian Church\, 73 Main St\, Antrim\, NH\, 03440\, United States
ATTACH;FMTTYPE=image/png:https://grapevinenh.org/wp-content/uploads/2025/06/Untitled-design-3.png
END:VEVENT
END:VCALENDAR